BEGIN:VCALENDAR
VERSION:2.0
PRODID:-//ddaysoftware.com//NONSGML DDay.iCal 1.0//EN
BEGIN:VEVENT
DESCRIPTION:  \n Cet espace-temps propose une rencontre entre professionnel
 .le.s pratiquant la zoothérapie et la médiation animale. \n   \n En travai
 llant avec des humains et des animaux\, il est conseillé de se former régu
 lièrement et de se réunir entre professionnels pratiquant la médiation ani
 male et la zoothérapie afin de se sentir soutenu\, élargir ses horizons\, 
 mobiliser son esprit réflexif et cultiver une démarche éthique. Medianimal
  vous propose de passer ce temps d'échange ensemble dans une ambiance conv
 iviale même face à un ordi !  \n \n   \n Objectifs:   \n \n Partager ses e
 xpériences et sa pratique  \n Mobiliser les ressources et les richesses de
  chacune et chacun pour élargir ses horizons \n Affiner son éthique profes
 sionnelle \n Cultiver l'élan dans sa pratique \n Tisser des liens\, se ras
 semble \n \n   \n Moyens: \n \n par zoom -> lundi 9 mars 2026 de 19 à 21h 
 \n par zoom -> mercredi 29 avril 2026 de 19h à 21h \n en présentiel -> sam
 edi 6 juin 2026 aux Reussîlles de 9h à 14h avec repas pizza \n \n   \n Pub
 lic cible :  Professionnel.le.s pratiquant la médiaiton animale ou la zoot
 hérapie  \n Facilitatrices  : Christel Bergundthal\, enseignante primaire\
 , coach\, superviseure et formatrice d'adultes spécialisée en médiation an
 imale  et en analyse transactionnelle 
DTEND:20260606T140000
DTSTAMP:20260422T090841Z
DTSTART:20260606T190000
LOCATION:Par visioconférence 
SEQUENCE:0
SUMMARY:🧩  Partage et réflexion de pratiques  avec repas (juin )
UID:050c7ba9-8525-4dd0-91d0-70771b9561ab
X-ALT-DESC;FMTTYPE=text/html:<h4 style="text-align: justify\;">&nbsp\;</h4>
 \n<h3 style="text-align: center\;">Cet espace-temps propose une rencontre 
 entre professionnel.le.s pratiquant la zooth&eacute\;rapie et la m&eacute\
 ;diation animale.</h3>\n<p style="text-align: justify\;">&nbsp\;</p>\n<h4 
 style="text-align: justify\;">En travaillant avec des humains et des anima
 ux\, il est conseill&eacute\; de se former r&eacute\;guli&egrave\;rement e
 t de se r&eacute\;unir entre professionnels pratiquant la m&eacute\;diatio
 n animale et la zooth&eacute\;rapie afin de se sentir soutenu\, &eacute\;l
 argir ses horizons\, mobiliser son esprit r&eacute\;flexif et cultiver une
  d&eacute\;marche &eacute\;thique. Medianimal vous propose de passer ce te
 mps d'&eacute\;change ensemble dans une ambiance conviviale m&ecirc\;me fa
 ce &agrave\; un ordi !&nbsp\;</h4>\n<hr />\n<p>&nbsp\;</p>\n<p><strong>Obj
 ectifs:<span class="Apple-converted-space">&nbsp\;</span></strong></p>\n<u
 l>\n<li>Partager ses exp&eacute\;riences et sa pratique&nbsp\;</li>\n<li>M
 obiliser les ressources et les richesses de chacune et chacun pour &eacute
 \;largir ses horizons</li>\n<li>Affiner son &eacute\;thique professionnell
 e</li>\n<li>Cultiver l'&eacute\;lan dans sa pratique</li>\n<li>Tisser des 
 liens\, se rassemble</li>\n</ul>\n<p>&nbsp\;</p>\n<p><strong>Moyens:</stro
 ng></p>\n<ul>\n<li>par zoom -&gt\; lundi 9 mars 2026 de 19 &agrave\; 21h</
 li>\n<li>par zoom -&gt\; mercredi 29 avril 2026 de 19h &agrave\; 21h</li>\
 n<li>en pr&eacute\;sentiel -&gt\; samedi 6 juin 2026 aux Reuss&icirc\;lles
  de 9h &agrave\; 14h avec repas pizza</li>\n</ul>\n<p>&nbsp\;</p>\n<p><str
 ong>Public cible : </strong>Professionnel.le.s pratiquant la m&eacute\;dia
 iton animale ou la zooth&eacute\;rapie&nbsp\;</p>\n<p><strong>Facilitatric
 es </strong>: Christel Bergundthal\, enseignante primaire\, coach\, superv
 iseure et formatrice d'adultes sp&eacute\;cialis&eacute\;e en m&eacute\;di
 ation animale<span class="Apple-converted-space"> et en analyse transactio
 nnelle&nbsp\;</span></p>
END:VEVENT
END:VCALENDAR
