BEGIN:VCALENDAR
VERSION:2.0
PRODID:-//ddaysoftware.com//NONSGML DDay.iCal 1.0//EN
BEGIN:VEVENT
DESCRIPTION:  \n La médiation animale en milieu scolaire est encore une pra
 tique pédagogique peu courante. Les enseignant.e.s pratiquant la médiation
  animale sont souvent seul.e.s dans leur établissement. Cet espace-temps p
 ropose de se rassembler pour partager les expériences\, se sentir soutenu\
 , élargir ses horizons\, mobiliser son esprit réflexif\, enrichir sa palet
 te pédagogique et cultiver une démarche éthique. \n   \n Objectifs:   \n \
 n Partager ses expériences et enrichir sa pratique  \n Mobiliser les resso
 urces et les richesses de chacune et chacun pour élargir ses horizons \n A
 ffiner son éthique professionnelle \n Cultiver l'élan dans sa pratique \n 
 Tisser des liens\, se rassembler \n \n   \n Moyens: \n \n En visio -> jeud
 i 19 mars 2026 de 19h à 21h  \n En visio -> mardi 28 avril 2026 de 19h à 2
 1h  \n En visio -> mercredi 3 juin 2026 de 19h à 21h  \n \n   \n Public ci
 ble :  Professionnel.le.s pratiquant la médiation animale en milieu scolai
 re  \n Facilitatrices  : Christel Bergundthal\, enseignante primaire\, coa
 ch\, superviseure et formatrice d'adultes spécialisée en médiation animale
  et en analyse transactionnelle   \n  
DTEND:20260603T210000
DTSTAMP:20260422T102724Z
DTSTART:20260603T190000
LOCATION:Medianimal\, Le Cernil 21\, 2722 Les Reussilles
SEQUENCE:0
SUMMARY:🪁 Intervision pour professionnel.le.s pratiquant la médiation anim
 ale  en milieu scolaire  (juin)
UID:71bbf75b-3c49-4a09-a914-136fccbcbb87
X-ALT-DESC;FMTTYPE=text/html:<h4 style="text-align: justify\;">&nbsp\;</h4>
 \n<h4 style="text-align: justify\;">La m&eacute\;diation animale en milieu
  scolaire est encore une pratique p&eacute\;dagogique peu courante. Les en
 seignant.e.s pratiquant la m&eacute\;diation animale sont souvent seul.e.s
  dans leur &eacute\;tablissement. Cet espace-temps propose de se rassemble
 r pour partager les exp&eacute\;riences\, se sentir soutenu\, &eacute\;lar
 gir ses horizons\, mobiliser son esprit r&eacute\;flexif\, enrichir sa pal
 ette p&eacute\;dagogique et cultiver une d&eacute\;marche &eacute\;thique.
 </h4>\n<p>&nbsp\;</p>\n<p><strong>Objectifs:<span class="Apple-converted-s
 pace">&nbsp\;</span></strong></p>\n<ul>\n<li>Partager ses exp&eacute\;rien
 ces et enrichir sa pratique&nbsp\;</li>\n<li>Mobiliser les ressources et l
 es richesses de chacune et chacun pour &eacute\;largir ses horizons</li>\n
 <li>Affiner son &eacute\;thique professionnelle</li>\n<li>Cultiver l'&eacu
 te\;lan dans sa pratique</li>\n<li>Tisser des liens\, se rassembler</li>\n
 </ul>\n<p>&nbsp\;</p>\n<p><strong>Moyens:</strong></p>\n<ul>\n<li>En visio
  -&gt\; jeudi 19 mars 2026 de 19h &agrave\; 21h&nbsp\;</li>\n<li>En visio 
 -&gt\; mardi 28 avril 2026 de 19h &agrave\; 21h&nbsp\;</li>\n<li>En visio 
 -&gt\; mercredi 3 juin 2026 de 19h &agrave\; 21h&nbsp\;</li>\n</ul>\n<p>&n
 bsp\;</p>\n<p><strong>Public cible : </strong>Professionnel.le.s pratiquan
 t la m&eacute\;diation animale en milieu scolaire&nbsp\;</p>\n<p><strong>F
 acilitatrices </strong>: Christel Bergundthal\, enseignante primaire\, coa
 ch\, superviseure et formatrice d'adultes sp&eacute\;cialis&eacute\;e en m
 &eacute\;diation animale et en analyse transactionnelle<span class="Apple-
 converted-space">&nbsp\;</span></p>\n<p>&nbsp\;</p>
END:VEVENT
END:VCALENDAR
