BEGIN:VCALENDAR
VERSION:2.0
PRODID:-//ddaysoftware.com//NONSGML DDay.iCal 1.0//EN
BEGIN:VEVENT
DESCRIPTION:Le but de ce test d’évaluation est de mettre le chien et son pr
 opriétaire dans des situations auxquelles ils pourront être   confrontés d
 ans leurs pratiques de zoothérapie ou de médiation animale. \n Les exercic
 es proposés permettront de contrôler le comportement général du chien\, le
  lien avec son propriétaire\, son niveau d’obéissance\, ses réactions face
  à divers stimuli (bruits\,   présence de divers objets\, autres chiens…) 
   \n Ce test permet de vérifier   les compétences du chien et de son propr
 iétaire   à collaborer en zoothérapie ou médiation animale. Les compétence
 s de chacun peuvent évoluer dans le temps\, ce test n’écarte pas des diffi
 cultés ultérieures comme il n’empêche pas une évolution positive. \n   \n 
 Objectifs:   \n \n Evaluer le comportement du chien face à diverses situat
 ions \n Evaluer la collaboration entre le chien et son humain.e \n Identif
 ier les points encore à entrainer \n \n   \n Moyens: \n \n Mise en situati
 on  \n \n   \n Public cible :  Toute personne travaillant ou prévoyant de 
 travailler en zoothérapie/médiation animale. Chien dès 18 mois. \n Prérequ
 is  : Professionnel.le collaborant ou souhaitant collaborer avec son chien
  en médiation animale ou/et zoothérapie \n Examinatrices  : Laurence Rober
 t : éducatrice canine spécialisée en comportement & Christel Bergundthal\,
  enseignante primaire\, coach\, superviseure et formatrice d'adultes spéci
 alisée en médiation animale et en analyse transactionnelle   \n Sites:  ht
 tps://nomd1chien.ch/  &  www.creactavie.ch \n  
DTEND:20260503T170000
DTSTAMP:20260422T104103Z
DTSTART:20260503T090000
LOCATION:Chem. de la Nancoran 4 \, 2738 Court (BE)
SEQUENCE:0
SUMMARY:🐶 TACT-> Test d'Aptitudes pour Chien de Thérapie
UID:5137b7ab-df52-4407-8246-1377cb224ae4
X-ALT-DESC;FMTTYPE=text/html:<p><strong>Le but de ce test d&rsquo\;&eacute\
 ;valuation est de mettre le chien et son propri&eacute\;taire dans des sit
 uations auxquelles ils pourront &ecirc\;tre<span class="Apple-converted-sp
 ace">&nbsp\;</span>confront&eacute\;s dans leurs pratiques de zooth&eacute
 \;rapie ou de m&eacute\;diation animale.</strong></p>\n<p>Les exercices pr
 opos&eacute\;s permettront de contr&ocirc\;ler le comportement g&eacute\;n
 &eacute\;ral du chien\, le lien avec son propri&eacute\;taire\, son niveau
  d&rsquo\;ob&eacute\;issance\, ses r&eacute\;actions face &agrave\; divers
  stimuli (bruits\,<span class="Apple-converted-space">&nbsp\;</span>pr&eac
 ute\;sence de divers objets\, autres chiens&hellip\;)<span class="Apple-co
 nverted-space">&nbsp\;</span></p>\n<p>Ce test permet de v&eacute\;rifier<s
 pan class="Apple-converted-space">&nbsp\;</span>les comp&eacute\;tences du
  chien et de son propri&eacute\;taire<span class="Apple-converted-space">&
 nbsp\;</span>&agrave\; collaborer en zooth&eacute\;rapie ou m&eacute\;diat
 ion animale. Les comp&eacute\;tences de chacun peuvent &eacute\;voluer dan
 s le temps\, ce test n&rsquo\;&eacute\;carte pas des difficult&eacute\;s u
 lt&eacute\;rieures comme il n&rsquo\;emp&ecirc\;che pas une &eacute\;volut
 ion positive.</p>\n<p>&nbsp\;</p>\n<p><strong>Objectifs:<span class="Apple
 -converted-space">&nbsp\;</span></strong></p>\n<ul>\n<li>Evaluer le compor
 tement du chien face &agrave\; diverses situations</li>\n<li>Evaluer la co
 llaboration entre le chien et son humain.e</li>\n<li>Identifier les points
  encore &agrave\; entrainer</li>\n</ul>\n<p>&nbsp\;</p>\n<p><strong>Moyens
 :</strong></p>\n<ul>\n<li>Mise en situation&nbsp\;</li>\n</ul>\n<p>&nbsp\;
 </p>\n<p><strong>Public cible :&nbsp\;</strong>Toute personne travaillant 
 ou pr&eacute\;voyant de travailler en zooth&eacute\;rapie/m&eacute\;diatio
 n animale. Chien d&egrave\;s 18 mois.</p>\n<p><strong>Pr&eacute\;requis</s
 trong> : Professionnel.le collaborant ou souhaitant collaborer avec son ch
 ien en m&eacute\;diation animale ou/et zooth&eacute\;rapie</p>\n<p><strong
 >Examinatrices </strong>: Laurence Robert : &eacute\;ducatrice canine sp&e
 acute\;cialis&eacute\;e en comportement &amp\; Christel Bergundthal\, ense
 ignante primaire\, coach\, superviseure et formatrice d'adultes sp&eacute\
 ;cialis&eacute\;e en m&eacute\;diation animale et en analyse transactionne
 lle<span class="Apple-converted-space">&nbsp\;</span></p>\n<p><strong>Site
 s: <a href="https://nomd1chien.ch/">https://nomd1chien.ch/</a> &amp\;&nbsp
 \;</strong><a href="http://www.creactavie.ch/">www.creactavie.ch</a></p>\n
 <p>&nbsp\;</p>
END:VEVENT
END:VCALENDAR
