BEGIN:VCALENDAR
VERSION:2.0
PRODID:-//ddaysoftware.com//NONSGML DDay.iCal 1.0//EN
BEGIN:VEVENT
DESCRIPTION:L’empathie est au cœur du processus de la Communication NonViol
 ente : elle consiste à offrir une écoute sincère\, sans chercher à conseil
 ler\, rassurer ou juger. Cette qualité de présence permet au bénéficiaire 
 de se sentir entendu et reconnu dans ce qu’il vit et favorise une relation
  sécurisante. Ainsi\, la coopération devient plus fluide pour la personne 
 comme pour l’animal. Cette journée propose une introduction concrète à l’e
 mpathie et à son application directe dans vos accompagnements. \n   \n   \
 n   \n Objectifs:   \n \n Découvrir les bases de la Communication NonViole
 nte et comprendre la place centrale de l’empathie \n Pratiquer une écoute 
 empathique dans vos séances\, \n Accueillir les émotions et les besoins de
 s bénéficiaires\, \n Identifier les obstacles fréquents à l’écoute empathi
 que   \n Expérimenter l’écoute émotionnelle\, corporelle et verbale \n \n 
   \n Moyens: \n \n \n Apports théoriques \n \n \n  Exercices pratiques en 
 binômes et petits groupes \n \n \n  Mises en situation inspirées de cas co
 ncrets \n \n \n Temps de réflexion sur votre posture professionnelle \n \n
  \n   \n   \n Public cible :  Toute personne souhaitant offrir une écoute 
 empathique à son entourage et à ses bénéficiaires  \n Formatrice  : Emmanu
 elle Straub\, formatrice certifiée Communication NonViolente \n  
DTEND:20260426T170000
DTSTAMP:20260422T104552Z
DTSTART:20260426T090000
LOCATION:Medianimal\, Le Cernil 21\, 2722 Les Reussilles (BE)
SEQUENCE:0
SUMMARY:💕 L'empathie\, le pouvoir de l'accueil 
UID:fa986e8c-6907-4b02-91ce-38cc1d0e37d0
X-ALT-DESC;FMTTYPE=text/html:<p><strong>L&rsquo\;empathie est au c&oelig\;u
 r du processus de la Communication NonViolente : elle consiste &agrave\; o
 ffrir une &eacute\;coute sinc&egrave\;re\, sans chercher &agrave\; conseil
 ler\, rassurer ou juger. Cette qualit&eacute\; de pr&eacute\;sence permet 
 au b&eacute\;n&eacute\;ficiaire de se sentir entendu et reconnu dans ce qu
 &rsquo\;il vit et favorise une relation s&eacute\;curisante. Ainsi\, la co
 op&eacute\;ration devient plus fluide pour la personne comme pour l&rsquo\
 ;animal. Cette journ&eacute\;e propose une introduction concr&egrave\;te &
 agrave\; l&rsquo\;empathie et &agrave\; son application directe dans vos a
 ccompagnements.</strong></p>\n<p>&nbsp\;</p>\n<p>&nbsp\;</p>\n<p>&nbsp\;</
 p>\n<p><strong>Objectifs:<span class="Apple-converted-space">&nbsp\;</span
 ></strong></p>\n<ul>\n<li>D&eacute\;couvrir les bases de la Communication 
 NonViolente et comprendre la place centrale de l&rsquo\;empathie</li>\n<li
 >Pratiquer une &eacute\;coute empathique dans vos s&eacute\;ances\,</li>\n
 <li>Accueillir les &eacute\;motions et les besoins des b&eacute\;n&eacute\
 ;ficiaires\,</li>\n<li>Identifier les obstacles fr&eacute\;quents &agrave\
 ; l&rsquo\;&eacute\;coute empathique<span class="Apple-converted-space">&n
 bsp\;</span></li>\n<li>Exp&eacute\;rimenter l&rsquo\;&eacute\;coute &eacut
 e\;motionnelle\, corporelle et verbale</li>\n</ul>\n<p>&nbsp\;</p>\n<p><st
 rong>Moyens:</strong></p>\n<ul>\n<li>\n<p>Apports th&eacute\;oriques</p>\n
 </li>\n<li>\n<p>&nbsp\;Exercices pratiques en bin&ocirc\;mes et petits gro
 upes</p>\n</li>\n<li>\n<p>&nbsp\;Mises en situation inspir&eacute\;es de c
 as concrets</p>\n</li>\n<li>\n<p>Temps de r&eacute\;flexion sur votre post
 ure professionnelle</p>\n</li>\n</ul>\n<p>&nbsp\;</p>\n<p>&nbsp\;</p>\n<p>
 <strong>Public cible :</strong> Toute personne souhaitant offrir une &eacu
 te\;coute empathique &agrave\; son entourage et &agrave\; ses b&eacute\;n&
 eacute\;ficiaires&nbsp\;</p>\n<p><strong>Formatrice </strong>: Emmanuelle 
 Straub\, formatrice certifi&eacute\;e Communication NonViolente</p>\n<p>&n
 bsp\;</p>
END:VEVENT
END:VCALENDAR
