BEGIN:VCALENDAR
VERSION:2.0
PRODID:-//ddaysoftware.com//NONSGML DDay.iCal 1.0//EN
BEGIN:VEVENT
DESCRIPTION:Medianimal vous propose un espace-temps en visio \n  pour vous 
 présenter  \n les grandes lignes de la formation  \n et \n  répondre à vos
  questions 😇
DTEND:20260427T200000
DTSTAMP:20260422T104721Z
DTSTART:20260427T190000
LOCATION:en visio 
SEQUENCE:0
SUMMARY:🎓 Séance d'informations sur la formation certifiante 2026-27
UID:bd815d24-6732-4b30-ba3e-b1ddeba47f9d
X-ALT-DESC;FMTTYPE=text/html:<p style="text-align: center\;"><strong>Median
 imal vous propose un espace-temps en visio</strong></p>\n<p style="text-al
 ign: center\;"><strong> pour vous pr&eacute\;senter </strong></p>\n<p styl
 e="text-align: center\;"><strong>les grandes lignes de la formation </stro
 ng></p>\n<p style="text-align: center\;"><strong>et</strong></p>\n<p style
 ="text-align: center\;"><strong> r&eacute\;pondre &agrave\; vos questions 
 😇</strong></p>
END:VEVENT
END:VCALENDAR
